BEGIN:VCALENDAR
VERSION:2.0
PRODID:-//wp-events-plugin.com//7.2.3.1//EN
TZID:Europe/Berlin
X-WR-TIMEZONE:Europe/Berlin
BEGIN:VEVENT
UID:63@waldorfschule-goerlitz.de
DTSTART;TZID=Europe/Berlin:20221221T090000
DTEND;TZID=Europe/Berlin:20221221T100000
DTSTAMP:20221130T153036Z
URL:https://waldorfschule-goerlitz.de/events/christgeburtsspiel/
SUMMARY:Christgeburtsspiel
DESCRIPTION:Christgeburtsspiel intern für die Schüler
ATTACH;FMTTYPE=image/jpeg:https://waldorfschule-goerlitz.de/wp-content/upl
 oads/Poster-Paradeis-2022-neu-1-scaled.jpg
CATEGORIES:Besonderer-Anlass
END:VEVENT
BEGIN:VTIMEZONE
TZID:Europe/Berlin
X-LIC-LOCATION:Europe/Berlin
BEGIN:STANDARD
DTSTART:20221030T020000
TZOFFSETFROM:+0200
TZOFFSETTO:+0100
TZNAME:CET
END:STANDARD
END:VTIMEZONE
END:VCALENDAR