BEGIN:VCALENDAR
VERSION:2.0
PRODID:-//wp-events-plugin.com//7.2.3.1//EN
TZID:Europe/Berlin
X-WR-TIMEZONE:Europe/Berlin
BEGIN:VEVENT
UID:479@waldorfschule-goerlitz.de
DTSTART;TZID=Europe/Berlin:20260507T180000
DTEND;TZID=Europe/Berlin:20260507T193000
DTSTAMP:20250812T044107Z
URL:https://waldorfschule-goerlitz.de/events/informationsveranstaltung-sch
 ulanfaenger-unter-mittelstufe-2/
SUMMARY:Informationsveranstaltung Schulanfänger/Unter- & Mittelstufe
DESCRIPTION:
CATEGORIES:Besonderer-Anlass,Info-Abend,News
END:VEVENT
BEGIN:VTIMEZONE
TZID:Europe/Berlin
X-LIC-LOCATION:Europe/Berlin
BEGIN:DAYLIGHT
DTSTART:20260329T030000
TZOFFSETFROM:+0100
TZOFFSETTO:+0200
TZNAME:CEST
END:DAYLIGHT
END:VTIMEZONE
END:VCALENDAR